BEGIN:VCALENDAR
VERSION:2.0
PRODID:-//wp-events-plugin.com//7.2.3.1//EN
TZID:America/Toronto
X-WR-TIMEZONE:America/Toronto
BEGIN:VEVENT
UID:58@camic.ca
DTSTART;TZID=America/Toronto;VALUE=DATE:20250505
DTEND;TZID=America/Toronto;VALUE=DATE:20250507
DTSTAMP:20250429T165323Z
URL:https://camic.ca/fr/events/journee-de-lobbying-reunion-semi-annuelle-d
 e-laccam-2025/
SUMMARY:Journée de lobbying / Réunion semi-annuelle de l'ACCAM 2025
DESCRIPTION:Journée de lobbying / Réunion semi-annuelle de l'ACCAM 2025\
 nL’inscription à la journée de lobbying / réunion semi-annuelle 2025 
 de l'ACCAM au Fairmont Château Laurier comprend une réception le soir du
  5 mai de 17h00 à 18h00\, suivie de la réunion du 6 mai de 8h00 à 15h00
  (comprend le petit-déjeuner\, le dîner et une pause-café).\n      
                   L'ébauche du programme  sera mise à jour ré
 gulièrement. Veuillez cliquer ici pour y accéder. Le lien restera le mê
 me.\nRéservations au Château Laurier\n\nPossibilités de commandites pou
 r les membres affiliés\nMembres affiliés\, pour commanditer cet événem
 ent\, veuillez cliquer ici pour découvrir les opportunités de commandite
  ! Pour vous inscrire en tant que commanditaire\, veuillez cliquer ici ! M
 erci de votre soutien !\nMerci aux commanditaires suivant :\n\n    \n\n
 \n\n&nbsp\;\nN’hésitez pas à skamble@camic.ca contacter pour toute que
 stion.\nLa réunion est privée et non officielle.
ATTACH;FMTTYPE=image/jpeg:https://camic.ca/wp-content/uploads/fairmont-cha
 teau-laurier.jpg
CATEGORIES:Lobby Day
LOCATION:Fairmont Château Laurier\, 1 Rideau Street\, Ottawa\, ON\, K1N 8S
 7\, Ontario\, Canada
GEO:45.425435;-75.695373
X-APPLE-STRUCTURED-LOCATION;VALUE=URI;X-ADDRESS=1 Rideau Street\, Ottawa\, 
 ON\, K1N 8S7\, Ontario\, Canada;X-APPLE-RADIUS=100;X-TITLE=Fairmont Châte
 au Laurier:geo:45.425435,-75.695373
END:VEVENT
BEGIN:VTIMEZONE
TZID:America/Toronto
X-LIC-LOCATION:America/Toronto
BEGIN:DAYLIGHT
DTSTART:20250309T030000
TZOFFSETFROM:-0500
TZOFFSETTO:-0400
TZNAME:EDT
END:DAYLIGHT
END:VTIMEZONE
END:VCALENDAR